BEGIN:VCALENDAR
VERSION:2.0
PRODID:-//GHS Spirit Week - ECPv6.15.20//NONSGML v1.0//EN
CALSCALE:GREGORIAN
METHOD:PUBLISH
X-ORIGINAL-URL:https://ghsspiritweek.com
X-WR-CALDESC:Events for GHS Spirit Week
REFRESH-INTERVAL;VALUE=DURATION:PT1H
X-Robots-Tag:noindex
X-PUBLISHED-TTL:PT1H
BEGIN:VTIMEZONE
TZID:America/New_York
BEGIN:DAYLIGHT
TZOFFSETFROM:-0500
TZOFFSETTO:-0400
TZNAME:EDT
DTSTART:20240310T070000
END:DAYLIGHT
BEGIN:STANDARD
TZOFFSETFROM:-0400
TZOFFSETTO:-0500
TZNAME:EST
DTSTART:20241103T060000
END:STANDARD
BEGIN:DAYLIGHT
TZOFFSETFROM:-0500
TZOFFSETTO:-0400
TZNAME:EDT
DTSTART:20250309T070000
END:DAYLIGHT
BEGIN:STANDARD
TZOFFSETFROM:-0400
TZOFFSETTO:-0500
TZNAME:EST
DTSTART:20251102T060000
END:STANDARD
BEGIN:DAYLIGHT
TZOFFSETFROM:-0500
TZOFFSETTO:-0400
TZNAME:EDT
DTSTART:20260308T070000
END:DAYLIGHT
BEGIN:STANDARD
TZOFFSETFROM:-0400
TZOFFSETTO:-0500
TZNAME:EST
DTSTART:20261101T060000
END:STANDARD
END:VTIMEZONE
BEGIN:VEVENT
DTSTART;TZID=America/New_York:20250919T193000
DTEND;TZID=America/New_York:20250919T220000
DTSTAMP:20260416T035020
CREATED:20250908T133931Z
LAST-MODIFIED:20250908T233302Z
UID:1463-1758310200-1758319200@ghsspiritweek.com
SUMMARY:GHS Varsity Football Game
DESCRIPTION:Red Raiders take on Woodmont
URL:https://ghsspiritweek.com/event/varsity-football-game-2/
LOCATION:Woodmont High School
CATEGORIES:Community
END:VEVENT
BEGIN:VEVENT
DTSTART;TZID=America/New_York:20250919T193000
DTEND;TZID=America/New_York:20250919T193000
DTSTAMP:20260416T035020
CREATED:20250903T152836Z
LAST-MODIFIED:20250918T170548Z
UID:1312-1758310200-1758310200@ghsspiritweek.com
SUMMARY:Varsity Football Game vs. Woodmont
DESCRIPTION:Cheer on the Red Raiders under the Friday night lights! \nBuy your Ticket! https://gofan.co/event/3772830?schoolId=SC2692 \nTHEME: Out of This World
URL:https://ghsspiritweek.com/event/varsity-football-game-vs-woodmont/
LOCATION:Woodmont High School
CATEGORIES:For Students
END:VEVENT
END:VCALENDAR