BEGIN:VCALENDAR
VERSION:2.0
PRODID:-//GHS Spirit Week - ECPv6.15.20//NONSGML v1.0//EN
CALSCALE:GREGORIAN
METHOD:PUBLISH
X-WR-CALNAME:GHS Spirit Week
X-ORIGINAL-URL:https://ghsspiritweek.com
X-WR-CALDESC:Events for GHS Spirit Week
REFRESH-INTERVAL;VALUE=DURATION:PT1H
X-Robots-Tag:noindex
X-PUBLISHED-TTL:PT1H
BEGIN:VTIMEZONE
TZID:America/New_York
BEGIN:DAYLIGHT
TZOFFSETFROM:-0500
TZOFFSETTO:-0400
TZNAME:EDT
DTSTART:20240310T070000
END:DAYLIGHT
BEGIN:STANDARD
TZOFFSETFROM:-0400
TZOFFSETTO:-0500
TZNAME:EST
DTSTART:20241103T060000
END:STANDARD
BEGIN:DAYLIGHT
TZOFFSETFROM:-0500
TZOFFSETTO:-0400
TZNAME:EDT
DTSTART:20250309T070000
END:DAYLIGHT
BEGIN:STANDARD
TZOFFSETFROM:-0400
TZOFFSETTO:-0500
TZNAME:EST
DTSTART:20251102T060000
END:STANDARD
BEGIN:DAYLIGHT
TZOFFSETFROM:-0500
TZOFFSETTO:-0400
TZNAME:EDT
DTSTART:20260308T070000
END:DAYLIGHT
BEGIN:STANDARD
TZOFFSETFROM:-0400
TZOFFSETTO:-0500
TZNAME:EST
DTSTART:20261101T060000
END:STANDARD
END:VTIMEZONE
BEGIN:VEVENT
DTSTART;TZID=America/New_York:20250926T190000
DTEND;TZID=America/New_York:20250926T220000
DTSTAMP:20260417T031644
CREATED:20250904T185443Z
LAST-MODIFIED:20250913T014905Z
UID:1427-1758913200-1758924000@ghsspiritweek.com
SUMMARY:Varsity Football Game: Raiders vs Patriots
DESCRIPTION:Friday Night Lights — Ultimate Raider edition. Let’s pack the stands and cheer on the team! \nTickets at GoFan!   https://gofan.co/app/school/SC950 \nCheck Reveal\nThe big moment — see how much Greenville High raised for Jasmine Road during halftime.
URL:https://ghsspiritweek.com/event/varsity-football-game/
LOCATION:Sirrine Stadium\, 100 Cleveland Street\, Greenville\, SC
CATEGORIES:Community,For Students
END:VEVENT
BEGIN:VEVENT
DTSTART;TZID=America/New_York:20250926T141500
DTEND;TZID=America/New_York:20250926T154500
DTSTAMP:20260417T031644
CREATED:20250907T154946Z
LAST-MODIFIED:20250908T132123Z
UID:1457-1758896100-1758901500@ghsspiritweek.com
SUMMARY:Fourth Period Buy Out
DESCRIPTION:Bring $5
URL:https://ghsspiritweek.com/event/buyout-5/
LOCATION:Greenville High School
CATEGORIES:For Students
END:VEVENT
BEGIN:VEVENT
DTSTART;TZID=America/New_York:20250926T121500
DTEND;TZID=America/New_York:20250926T121500
DTSTAMP:20260417T031644
CREATED:20250904T185216Z
LAST-MODIFIED:20250911T194738Z
UID:1425-1758888900-1758888900@ghsspiritweek.com
SUMMARY:Gather with the Raiders
DESCRIPTION:Our grand finale! \nCelebrate Spirit Week at Gather GVL with live announcements\, raffle winners\, and Raider pride all around.
URL:https://ghsspiritweek.com/event/the-raider-rally/
LOCATION:Gather GVL
CATEGORIES:For Students
END:VEVENT
BEGIN:VEVENT
DTSTART;TZID=America/New_York:20250926T121500
DTEND;TZID=America/New_York:20250926T121500
DTSTAMP:20260417T031644
CREATED:20250908T135141Z
LAST-MODIFIED:20250911T194813Z
UID:1487-1758888900-1758888900@ghsspiritweek.com
SUMMARY:Gather with the Raiders
DESCRIPTION:🍴 Gather with the Raiders at Gather Greenville \nJoin us for the capstone celebration of Spirit Week as the Red Raider community comes together one last time! \nEnjoy a fun lunch at Gather Greenville filled with Raider pride\, our Red Raider mascot\, and plenty of spirit to close out the week. \nWe’ll celebrate all the hard work of Spirit Week\, collect our final donations\, and announce the winners of our raffles. It’s the perfect way to wrap up an incredible week of giving back\, friendship\, and Raider pride!
URL:https://ghsspiritweek.com/event/gather-with-the-raiders/
LOCATION:Gather GVL
CATEGORIES:Community
END:VEVENT
BEGIN:VEVENT
DTSTART;TZID=America/New_York:20250922T115500
DTEND;TZID=America/New_York:20250922T141000
DTSTAMP:20260417T031644
CREATED:20250904T183408Z
LAST-MODIFIED:20250908T132123Z
UID:1396-1758542100-1758550200@ghsspiritweek.com
SUMMARY:Lunch Event
DESCRIPTION:Daily lunchtime fun — grab cookies\, concessions\, or send your friends to “jail” while helping raise money! Cookie Sales\, Concessions\, Wedding & Jail\, Parking Spot Raffles — Bring Cash for Special Lunch Purchases
URL:https://ghsspiritweek.com/event/lunch-event/
LOCATION:Greenville High School
CATEGORIES:For Students
END:VEVENT
BEGIN:VEVENT
DTSTART;TZID=America/New_York:20250926T080000
DTEND;TZID=America/New_York:20250926T090000
DTSTAMP:20260417T031644
CREATED:20250904T185118Z
LAST-MODIFIED:20250908T132123Z
UID:1422-1758873600-1758877200@ghsspiritweek.com
SUMMARY:Pep Rally
DESCRIPTION:Close out Spirit Week in the gym with the loudest\, proudest pep rally of the year. \nWho’s the lucky Raider? Winner of the coveted parking spot will be revealed at the pep rally!
URL:https://ghsspiritweek.com/event/pep-rally/
LOCATION:Greenville High School
CATEGORIES:For Students
END:VEVENT
BEGIN:VEVENT
DTSTART;VALUE=DATE:20250926
DTEND;VALUE=DATE:20250927
DTSTAMP:20260417T031644
CREATED:20250904T184833Z
LAST-MODIFIED:20250908T132123Z
UID:1420-1758844800-1758931199@ghsspiritweek.com
SUMMARY:Ultimate Raider
DESCRIPTION:Red\, Black or White! Come Ready to Win!\nLast chance for a class buyout — go big for Ultimate Raider Day!
URL:https://ghsspiritweek.com/event/ultimate-raider/
LOCATION:Greenville High School
CATEGORIES:For Students
END:VEVENT
BEGIN:VEVENT
DTSTART;TZID=America/New_York:20250925T190000
DTEND;TZID=America/New_York:20250925T190000
DTSTAMP:20260417T031644
CREATED:20250908T135050Z
LAST-MODIFIED:20250916T233204Z
UID:1485-1758826800-1758826800@ghsspiritweek.com
SUMMARY:GHS Volleyball Game
DESCRIPTION:Come out and pack the gym – cheer on your Red Raider Volleyball Team and support Spirit Week!  JV Starts at 5:30 and Varsity at 7:00! \nThere will be a TURTLEBOX Speaker RAFFLE! $10 for a ticket to win! \nGet your tickets on Go Fan!
URL:https://ghsspiritweek.com/event/ghs-volleyball-game/
LOCATION:Greenville High School
CATEGORIES:Community
END:VEVENT
BEGIN:VEVENT
DTSTART;TZID=America/New_York:20250925T180000
DTEND;TZID=America/New_York:20250925T193000
DTSTAMP:20260417T031644
CREATED:20250904T184507Z
LAST-MODIFIED:20250908T135011Z
UID:1414-1758823200-1758828600@ghsspiritweek.com
SUMMARY:Raiders Got Talent (Talent Show)
DESCRIPTION:Show off your skills or cheer for your classmates at Spirit Week’s biggest talent showcase! Sign up and secure your spot on stage.
URL:https://ghsspiritweek.com/event/raiders-got-talent-talent-show/
LOCATION:Greenville High School
CATEGORIES:Community,For Students
END:VEVENT
BEGIN:VEVENT
DTSTART;TZID=America/New_York:20250922T115500
DTEND;TZID=America/New_York:20250922T141000
DTSTAMP:20260417T031644
CREATED:20250904T183408Z
LAST-MODIFIED:20250908T132123Z
UID:1396-1758542100-1758550200@ghsspiritweek.com
SUMMARY:Lunch Event
DESCRIPTION:Daily lunchtime fun — grab cookies\, concessions\, or send your friends to “jail” while helping raise money! Cookie Sales\, Concessions\, Wedding & Jail\, Parking Spot Raffles — Bring Cash for Special Lunch Purchases
URL:https://ghsspiritweek.com/event/lunch-event/
LOCATION:Greenville High School
CATEGORIES:For Students
END:VEVENT
BEGIN:VEVENT
DTSTART;TZID=America/New_York:20250925T102500
DTEND;TZID=America/New_York:20250925T115500
DTSTAMP:20260417T031644
CREATED:20250907T154817Z
LAST-MODIFIED:20250908T132123Z
UID:1454-1758795900-1758801300@ghsspiritweek.com
SUMMARY:Second Period Buy Out
DESCRIPTION:Bring $5
URL:https://ghsspiritweek.com/event/buyout-4/
LOCATION:Greenville High School
CATEGORIES:For Students
END:VEVENT
BEGIN:VEVENT
DTSTART;VALUE=DATE:20250925
DTEND;VALUE=DATE:20250926
DTSTAMP:20260417T031644
CREATED:20250904T184323Z
LAST-MODIFIED:20250908T132123Z
UID:1410-1758758400-1758844799@ghsspiritweek.com
SUMMARY:Generation Day
DESCRIPTION:From babies to grandparents — and everything in between! Show off your best baby\, toddler\, mom\, dad\, grandma\, or grandpa look!
URL:https://ghsspiritweek.com/event/generation-day/
LOCATION:Greenville High School
CATEGORIES:For Students
END:VEVENT
BEGIN:VEVENT
DTSTART;TZID=America/New_York:20250924T183000
DTEND;TZID=America/New_York:20250924T200000
DTSTAMP:20260417T031644
CREATED:20250904T184220Z
LAST-MODIFIED:20250908T132123Z
UID:1407-1758738600-1758744000@ghsspiritweek.com
SUMMARY:Dodgeball Tournament
DESCRIPTION:Dodge\, duck\, dip\, dive\, and… donate! A high-energy tournament you won’t want to miss. Sign up during lunch to secure your spot!
URL:https://ghsspiritweek.com/event/dodgeball-tournament/
LOCATION:Greenville High School
CATEGORIES:For Students
END:VEVENT
BEGIN:VEVENT
DTSTART;TZID=America/New_York:20250924T180000
DTEND;TZID=America/New_York:20250924T210000
DTSTAMP:20260417T031644
CREATED:20250908T134947Z
LAST-MODIFIED:20250920T215934Z
UID:1482-1758736800-1758747600@ghsspiritweek.com
SUMMARY:Silent Auction and  Party
DESCRIPTION:Join the Red Raider community for an exciting evening filled with fun\, food\, and friendly competition! Our Silent Auction will feature wonderful items and experiences you won’t want to miss. \nCome enjoy delicious food\, connect with friends\, and support Spirit Week in a big way. Every bid helps raise funds for Jasmine Road & Jasmine Kitchen while showing off the best of Raider pride. \nhttps://secure.qgiv.com/event/ttxmxv/
URL:https://ghsspiritweek.com/event/silent-auction-party/
LOCATION:New Realm Brewery
CATEGORIES:Community
END:VEVENT
BEGIN:VEVENT
DTSTART;TZID=America/New_York:20250922T115500
DTEND;TZID=America/New_York:20250922T141000
DTSTAMP:20260417T031644
CREATED:20250904T183408Z
LAST-MODIFIED:20250908T132123Z
UID:1396-1758542100-1758550200@ghsspiritweek.com
SUMMARY:Lunch Event
DESCRIPTION:Daily lunchtime fun — grab cookies\, concessions\, or send your friends to “jail” while helping raise money! Cookie Sales\, Concessions\, Wedding & Jail\, Parking Spot Raffles — Bring Cash for Special Lunch Purchases
URL:https://ghsspiritweek.com/event/lunch-event/
LOCATION:Greenville High School
CATEGORIES:For Students
END:VEVENT
BEGIN:VEVENT
DTSTART;TZID=America/New_York:20250924T100000
DTEND;TZID=America/New_York:20250924T120000
DTSTAMP:20260417T031644
CREATED:20250908T134902Z
LAST-MODIFIED:20250914T192841Z
UID:1480-1758708000-1758715200@ghsspiritweek.com
SUMMARY:Let's Play Mahjong
DESCRIPTION:RAIDER MAHJONG \nPlease join us for a morning of open play MahJong to benefit Jasmine Road hosted by Greenville High School. We will begin play around 10am on Wednesday\, September 24th at the Greenville Drive. Come at 9:30 to socialize before we get started. \nEach participant will be entered into a raffle for a chance to win fun prizes. Additional raffle tickets will be available to purchase the day of the event. \nSign Up Below! \nhttps://m.signupgenius.com/#!/showSignUp/10C0E4EA5A72EAAFBC43-58609795-raider \n 
URL:https://ghsspiritweek.com/event/lets-play-mahjong/
LOCATION:Greenville Drive 500 Club\, 945 S Main Street\, Greenville\, SC\, 29605
CATEGORIES:Community
END:VEVENT
BEGIN:VEVENT
DTSTART;TZID=America/New_York:20250924T084500
DTEND;TZID=America/New_York:20250924T102000
DTSTAMP:20260417T031644
CREATED:20250907T154735Z
LAST-MODIFIED:20250908T132123Z
UID:1452-1758703500-1758709200@ghsspiritweek.com
SUMMARY:First Period Buy Out
DESCRIPTION:Bring $5
URL:https://ghsspiritweek.com/event/buyout-3/
LOCATION:Greenville High School
CATEGORIES:For Students
END:VEVENT
BEGIN:VEVENT
DTSTART;VALUE=DATE:20250924
DTEND;VALUE=DATE:20250925
DTSTAMP:20260417T031644
CREATED:20250904T184406Z
LAST-MODIFIED:20250908T132123Z
UID:1412-1758672000-1758758399@ghsspiritweek.com
SUMMARY:Music Mania
DESCRIPTION:Dress like your favorite musical artist\, band\, or genre — whether it’s Taylor Swift\, rock\, rap\, country\, or anything in between!
URL:https://ghsspiritweek.com/event/music-mania/
LOCATION:Greenville High School
CATEGORIES:For Students
END:VEVENT
BEGIN:VEVENT
DTSTART;TZID=America/New_York:20250923T170000
DTEND;TZID=America/New_York:20250923T190000
DTSTAMP:20260417T031644
CREATED:20250908T134620Z
LAST-MODIFIED:20250908T134653Z
UID:1473-1758646800-1758654000@ghsspiritweek.com
SUMMARY:Profit Share Dinner (Chick-fil-a)
DESCRIPTION:
URL:https://ghsspiritweek.com/event/profit-share-dinner/
LOCATION:Chick-fil-a
CATEGORIES:Community
END:VEVENT
BEGIN:VEVENT
DTSTART;TZID=America/New_York:20250923T160000
DTEND;TZID=America/New_York:20250923T210000
DTSTAMP:20260417T031644
CREATED:20250908T134739Z
LAST-MODIFIED:20250908T134739Z
UID:1477-1758643200-1758661200@ghsspiritweek.com
SUMMARY:Profit Share Dinner (Groucho's)
DESCRIPTION:
URL:https://ghsspiritweek.com/event/profit-share-dinner-grouchos/
LOCATION:Groucho’s
CATEGORIES:Community
END:VEVENT
BEGIN:VEVENT
DTSTART;TZID=America/New_York:20250922T115500
DTEND;TZID=America/New_York:20250922T141000
DTSTAMP:20260417T031644
CREATED:20250904T183408Z
LAST-MODIFIED:20250908T132123Z
UID:1396-1758542100-1758550200@ghsspiritweek.com
SUMMARY:Lunch Event
DESCRIPTION:Daily lunchtime fun — grab cookies\, concessions\, or send your friends to “jail” while helping raise money! Cookie Sales\, Concessions\, Wedding & Jail\, Parking Spot Raffles — Bring Cash for Special Lunch Purchases
URL:https://ghsspiritweek.com/event/lunch-event/
LOCATION:Greenville High School
CATEGORIES:For Students
END:VEVENT
BEGIN:VEVENT
DTSTART;TZID=America/New_York:20250923T103000
DTEND;TZID=America/New_York:20250923T130000
DTSTAMP:20260417T031644
CREATED:20250908T134356Z
LAST-MODIFIED:20250908T134356Z
UID:1469-1758623400-1758632400@ghsspiritweek.com
SUMMARY:Women's Tennis Tournament
DESCRIPTION:
URL:https://ghsspiritweek.com/event/womens-tennis-tournament/
LOCATION:Greenville Country Club
CATEGORIES:Community
END:VEVENT
BEGIN:VEVENT
DTSTART;TZID=America/New_York:20250923T102500
DTEND;TZID=America/New_York:20250923T115500
DTSTAMP:20260417T031644
CREATED:20250907T154625Z
LAST-MODIFIED:20250908T132123Z
UID:1450-1758623100-1758628500@ghsspiritweek.com
SUMMARY:Second Period Buy Out
DESCRIPTION:Bring $5
URL:https://ghsspiritweek.com/event/buyout-2/
LOCATION:Greenville High School
CATEGORIES:For Students
END:VEVENT
BEGIN:VEVENT
DTSTART;VALUE=DATE:20250923
DTEND;VALUE=DATE:20250924
DTSTAMP:20260417T031644
CREATED:20250904T183521Z
LAST-MODIFIED:20250908T132123Z
UID:1398-1758585600-1758671999@ghsspiritweek.com
SUMMARY:Holiday Day
DESCRIPTION:Dress up in your favorite Holiday attire!
URL:https://ghsspiritweek.com/event/holiday-day/
LOCATION:Greenville High School
CATEGORIES:For Students
END:VEVENT
BEGIN:VEVENT
DTSTART;TZID=America/New_York:20250922T115500
DTEND;TZID=America/New_York:20250922T141000
DTSTAMP:20260417T031644
CREATED:20250904T183408Z
LAST-MODIFIED:20250908T132123Z
UID:1396-1758542100-1758550200@ghsspiritweek.com
SUMMARY:Lunch Event
DESCRIPTION:Daily lunchtime fun — grab cookies\, concessions\, or send your friends to “jail” while helping raise money! Cookie Sales\, Concessions\, Wedding & Jail\, Parking Spot Raffles — Bring Cash for Special Lunch Purchases
URL:https://ghsspiritweek.com/event/lunch-event/
LOCATION:Greenville High School
CATEGORIES:For Students
END:VEVENT
BEGIN:VEVENT
DTSTART;TZID=America/New_York:20250922T084500
DTEND;TZID=America/New_York:20250922T102000
DTSTAMP:20260417T031644
CREATED:20250907T154348Z
LAST-MODIFIED:20250908T132123Z
UID:1446-1758530700-1758536400@ghsspiritweek.com
SUMMARY:First Period Buy Out
DESCRIPTION:
URL:https://ghsspiritweek.com/event/buy-out/
LOCATION:Greenville High School
CATEGORIES:For Students
END:VEVENT
BEGIN:VEVENT
DTSTART;VALUE=DATE:20250922
DTEND;VALUE=DATE:20250923
DTSTAMP:20260417T031644
CREATED:20250904T183237Z
LAST-MODIFIED:20250908T132123Z
UID:1394-1758499200-1758585599@ghsspiritweek.com
SUMMARY:Pajama Day
DESCRIPTION:
URL:https://ghsspiritweek.com/event/pajama-day/
LOCATION:Greenville High School
CATEGORIES:For Students
END:VEVENT
BEGIN:VEVENT
DTSTART;TZID=America/New_York:20250921T191500
DTEND;TZID=America/New_York:20250921T201500
DTSTAMP:20260417T031644
CREATED:20250903T155106Z
LAST-MODIFIED:20250920T220149Z
UID:1338-1758482100-1758485700@ghsspiritweek.com
SUMMARY:Foam Party
DESCRIPTION:End your weekend in bubbles! Dance\, laugh\, and soak up the Spirit Week energy under the foam. Bring a change of clothes and towels to clean off with.  The Foam Party will start immediately after the Powderpuff Game! \nBring a change of clothes \n$10 per person
URL:https://ghsspiritweek.com/event/foam-party/
LOCATION:Sirrine Stadium\, 100 Cleveland Street\, Greenville\, SC
CATEGORIES:For Students
END:VEVENT
BEGIN:VEVENT
DTSTART;TZID=America/New_York:20250921T180000
DTEND;TZID=America/New_York:20250921T200000
DTSTAMP:20260417T031644
CREATED:20250903T154953Z
LAST-MODIFIED:20250909T000056Z
UID:1335-1758477600-1758484800@ghsspiritweek.com
SUMMARY:Powder Puff Football Game
DESCRIPTION:🏈 Powderpuff Football Game 🏈 \nOne of the most exciting Spirit Week traditions! Watch as Greenville High’s girls take the field in a fun and competitive showdown\, with the guys stepping in to keep the crowd fired up! \nThis game is all about school spirit\, laughter\, and community pride – and every ticket sold helps us raise money for Jasmine Road & Jasmine Kitchen. \n💥 Don’t miss it – the Powderpuff Game is where Raider Nation comes together for football\, fun\, and fundraising! \n$30 to play / $20 on field / $10 to watch
URL:https://ghsspiritweek.com/event/powder-puff-football-game/
LOCATION:Sirrine Stadium\, 100 Cleveland Street\, Greenville\, SC
CATEGORIES:Community,For Students
END:VEVENT
BEGIN:VEVENT
DTSTART;TZID=America/New_York:20250921T170000
DTEND;TZID=America/New_York:20250921T180000
DTSTAMP:20260417T031644
CREATED:20250903T154851Z
LAST-MODIFIED:20250908T134130Z
UID:1332-1758474000-1758477600@ghsspiritweek.com
SUMMARY:Raider Grill & Chill Cookout
DESCRIPTION:Grab a plate and enjoy dinner with your Raider family before the Powder Puff game. \nTHEME: Powder Puff Team Colors and T-Shirts \n$10 a plate
URL:https://ghsspiritweek.com/event/raider-grill-chill-cookout/
LOCATION:Sirrine Stadium\, 100 Cleveland Street\, Greenville\, SC
CATEGORIES:Community,For Students
END:VEVENT
END:VCALENDAR